BEGIN:VCALENDAR
VERSION:2.0
PRODID:-//Path to Spirit Warrior - ECPv6.15.20//NONSGML v1.0//EN
CALSCALE:GREGORIAN
METHOD:PUBLISH
X-WR-CALNAME:Path to Spirit Warrior
X-ORIGINAL-URL:https://pathtospiritwarrior.com
X-WR-CALDESC:Events for Path to Spirit Warrior
REFRESH-INTERVAL;VALUE=DURATION:PT1H
X-Robots-Tag:noindex
X-PUBLISHED-TTL:PT1H
BEGIN:VTIMEZONE
TZID:America/Chicago
BEGIN:DAYLIGHT
TZOFFSETFROM:-0600
TZOFFSETTO:-0500
TZNAME:CDT
DTSTART:20250309T080000
END:DAYLIGHT
BEGIN:STANDARD
TZOFFSETFROM:-0500
TZOFFSETTO:-0600
TZNAME:CST
DTSTART:20251102T070000
END:STANDARD
BEGIN:DAYLIGHT
TZOFFSETFROM:-0600
TZOFFSETTO:-0500
TZNAME:CDT
DTSTART:20260308T080000
END:DAYLIGHT
BEGIN:STANDARD
TZOFFSETFROM:-0500
TZOFFSETTO:-0600
TZNAME:CST
DTSTART:20261101T070000
END:STANDARD
BEGIN:DAYLIGHT
TZOFFSETFROM:-0600
TZOFFSETTO:-0500
TZNAME:CDT
DTSTART:20270314T080000
END:DAYLIGHT
BEGIN:STANDARD
TZOFFSETFROM:-0500
TZOFFSETTO:-0600
TZNAME:CST
DTSTART:20271107T070000
END:STANDARD
END:VTIMEZONE
BEGIN:VEVENT
DTSTART;TZID=America/Chicago:20260316T180000
DTEND;TZID=America/Chicago:20260316T193000
DTSTAMP:20260420T040847
CREATED:20250802T132224Z
LAST-MODIFIED:20251214T092759Z
UID:10000320-1773684000-1773689400@pathtospiritwarrior.com
SUMMARY:Monthly Monday Virtual Open Circle
DESCRIPTION:Zoom: https://us02web.zoom.us/j/84586982788 \n\n\n\nReignite your Spirit’s Blessingand take a further step on your Path with us.\n\n\n\nAll men are invited to our Monthly Monday P2SW Virtual Open Circle. We will be meeting over Zoom on the third Monday of every month. Join us from 7:00 PM EDT (6:00 PM CDT) for 1.5 hours of fellowship and connection to your Path to Spirit-Warrior family. \n\n\n\nFor the first part of the meeting\, we will have Reflective Listening to keep sharp this valuable relational skill. For the second part there will be a Presentation of a P2SW Core Concept by leadership\, followed by open sharing and discussion about the topic. \n\n\n\n\n\n\n\nPlease RSVP\n\n\n\nUse the link below to RSVP or tell us what night works for you if you cannot attend Monday evenings. \n\n\n\nRSVP\, or Other Night Suggestion \n\n\n\nWhy\n\n\n\nThis virtual meeting: \n\n\n\n\nGives P2SW Brothers the chance to stay connected as a community.\n\n\n\nGives us the opportunity to foster a Culture of Invitation and model SAFTG — Surrender\, Acceptance\, Forgiveness\, Thankfulness\, and Gratitude.\n\n\n\n\nWho\n\n\n\nAll P2SW Brothers. The virtual circle is also open to any men who have not done the P2SW Training. \n\n\n\nWe encourage you to invite the men in your lives that are curious about Path to Spirit-Warrior and men’s personal growth work. \n\n\n\nWhen\n\n\n\nThe third Monday of every month for an hour and a half\, 7:00 to 8:30 PM EDT; (6:00 to 7:30 PM CDT). \n\n\n\nWhere\n\n\n\nZoom: https://us02web.zoom.us/j/84586982788 \n\n\n\nQuestions?\n\n\n\nEmail our Organizers: Paul Najar (Najarpaul@gmail.com) or David Hancock (dzzh1983@gmail.com) \n\n\n\n 
URL:https://pathtospiritwarrior.com/event/montly-monday-virtual-open-circle-2/2026-03-16/
LOCATION:Virtual via Zoom
CATEGORIES:ONLINE Monday Men's Circle
ATTACH;FMTTYPE=image/png:https://pathtospiritwarrior.com/wp-content/uploads/2025/06/Zoom-Screen.png
ORGANIZER;CN="Paul Najar":MAILTO:najarpaul@gmail.com
END:VEVENT
END:VCALENDAR